BEGIN:VCALENDAR
VERSION:2.0
PRODID:-//OFFICE OF GROUP INSURANCE - ECPv6.15.20//NONSGML v1.0//EN
CALSCALE:GREGORIAN
METHOD:PUBLISH
X-WR-CALNAME:OFFICE OF GROUP INSURANCE
X-ORIGINAL-URL:https://ogi.idaho.gov
X-WR-CALDESC:Events for OFFICE OF GROUP INSURANCE
REFRESH-INTERVAL;VALUE=DURATION:PT1H
X-Robots-Tag:noindex
X-PUBLISHED-TTL:PT1H
BEGIN:VTIMEZONE
TZID:America/Boise
BEGIN:DAYLIGHT
TZOFFSETFROM:-0700
TZOFFSETTO:-0600
TZNAME:MDT
DTSTART:20210314T090000
END:DAYLIGHT
BEGIN:STANDARD
TZOFFSETFROM:-0600
TZOFFSETTO:-0700
TZNAME:MST
DTSTART:20211107T080000
END:STANDARD
BEGIN:DAYLIGHT
TZOFFSETFROM:-0700
TZOFFSETTO:-0600
TZNAME:MDT
DTSTART:20220313T090000
END:DAYLIGHT
BEGIN:STANDARD
TZOFFSETFROM:-0600
TZOFFSETTO:-0700
TZNAME:MST
DTSTART:20221106T080000
END:STANDARD
BEGIN:DAYLIGHT
TZOFFSETFROM:-0700
TZOFFSETTO:-0600
TZNAME:MDT
DTSTART:20230312T090000
END:DAYLIGHT
BEGIN:STANDARD
TZOFFSETFROM:-0600
TZOFFSETTO:-0700
TZNAME:MST
DTSTART:20231105T080000
END:STANDARD
END:VTIMEZONE
BEGIN:VEVENT
DTSTART;TZID=America/Boise:20220822T140000
DTEND;TZID=America/Boise:20220822T160000
DTSTAMP:20260424T155607
CREATED:20220112T182240Z
LAST-MODIFIED:20241003T153832Z
UID:5246-1661176800-1661184000@ogi.idaho.gov
SUMMARY:Group Insurance Advisory Committee Meeting
DESCRIPTION:
URL:https://ogi.idaho.gov/event/group-insurance-advisory-committee-meeting-5/
LOCATION:JRW West Conf Room\, 700 W. State Street\, Boise\, 700 W. State Street\, Boise\, ID\, 83702
CATEGORIES:GIAC Meeting
END:VEVENT
END:VCALENDAR